BEGIN:VCALENDAR
VERSION:2.0
PRODID:-//ChamberMaster//Event Calendar 2.0//EN
METHOD:PUBLISH
X-PUBLISHED-TTL:P3D
REFRESH-INTERVAL:P3D
CALSCALE:GREGORIAN
BEGIN:VEVENT
DTSTART:20010611T040000Z
DTEND:20010621T040000Z
X-MICROSOFT-CDO-ALLDAYEVENT:FALSE
SUMMARY:Yoga Classes
DESCRIPTION:Classes are once a week for 6 week sessions. Prices vary. For more information please call 228-6372.
X-ALT-DESC;FMTTYPE=text/html:Classes are once a week for 6 week sessions. Prices vary. For more information please call 228-6372.
LOCATION:Flowering Wilderness Heart Yoga
UID:e.1704.45053
SEQUENCE:3
DTSTAMP:20260423T181102Z
URL:http://marquette.memberzone.com/events/details/yoga-classes-06-11-2001-45053
END:VEVENT

END:VCALENDAR
