BEGIN:VCALENDAR
VERSION:2.0
PRODID:-//ChamberMaster//Event Calendar 2.0//EN
METHOD:PUBLISH
X-PUBLISHED-TTL:P3D
REFRESH-INTERVAL:P3D
CALSCALE:GREGORIAN
BEGIN:VEVENT
DTSTART:20010621T220000Z
DTEND:20010621T220000Z
X-MICROSOFT-CDO-ALLDAYEVENT:FALSE
SUMMARY:Yoga for Teens
DESCRIPTION:The cost is $10. Call 228-6372 for details.
X-ALT-DESC;FMTTYPE=text/html:The cost is $10. Call 228-6372 for details.
LOCATION:Flowering Wilderness Heart Yoga
UID:e.1704.45057
SEQUENCE:3
DTSTAMP:20260423T164019Z
URL:http://marquette.memberzone.com/events/details/yoga-for-teens-06-21-2001-45057
END:VEVENT

END:VCALENDAR
