BEGIN:VCALENDAR
VERSION:2.0
PRODID:-//ChamberMaster//Event Calendar 2.0//EN
METHOD:PUBLISH
X-PUBLISHED-TTL:P3D
REFRESH-INTERVAL:P3D
CALSCALE:GREGORIAN
BEGIN:VEVENT
DTSTART:20020724T040000Z
DTEND:20020804T040000Z
X-MICROSOFT-CDO-ALLDAYEVENT:FALSE
SUMMARY:Yokaichi Delegation Visit
DESCRIPTION:The theme of this year's visit is mapping of Marquette with the delegation participating in an orienteering exercise.  Delegates will be staying in the area with host families.  However\, one night will be spent at a hotel as a part of their exercise.  For more information\, please email Bill Brazier at brazier@chartermi.net
X-ALT-DESC;FMTTYPE=text/html:The theme of this year's visit is mapping of Marquette with the delegation participating in an orienteering exercise.  Delegates will be staying in the area with host families.  However\, one night will be spent at a hotel as a part of their exercise.  For more information\, please email Bill Brazier at brazier@chartermi.net
LOCATION:Marquette City
UID:e.1704.49085
SEQUENCE:3
DTSTAMP:20260422T113413Z
URL:http://marquette.memberzone.com/events/details/yokaichi-delegation-visit-07-24-2002-49085
END:VEVENT

END:VCALENDAR
