BEGIN:VCALENDAR
VERSION:2.0
PRODID:-//ChamberMaster//Event Calendar 2.0//EN
METHOD:PUBLISH
X-PUBLISHED-TTL:P3D
REFRESH-INTERVAL:P3D
CALSCALE:GREGORIAN
BEGIN:VEVENT
DTSTART:20030913T140000Z
DTEND:20030913T140000Z
X-MICROSOFT-CDO-ALLDAYEVENT:FALSE
SUMMARY:Young Eagle Flight Rally
DESCRIPTION:Kids from the age of 8 through 17 will have an opportunity to fly for free and learn what aviation is all about.  There is no charge for the event and registration begins at 10:00 at Skyward Aviation on the general aviation ramp.  A short ground school will follow registration and flight times will be assigned.  For more information call the  Ted Kirkpatrick at 475-3606.
X-ALT-DESC;FMTTYPE=text/html:Kids from the age of 8 through 17 will have an opportunity to fly for free and learn what aviation is all about.  There is no charge for the event and registration begins at 10:00 at Skyward Aviation on the general aviation ramp.  A short ground school will follow registration and flight times will be assigned.  For more information call the  Ted Kirkpatrick at 475-3606.
LOCATION:Sawyer International Airport
UID:e.1704.55389
SEQUENCE:3
DTSTAMP:20260421T073800Z
URL:http://marquette.memberzone.com/events/details/young-eagle-flight-rally-09-13-2003-55389
END:VEVENT

END:VCALENDAR
