BEGIN:VCALENDAR
VERSION:2.0
PRODID:-//ChamberMaster//Event Calendar 2.0//EN
METHOD:PUBLISH
X-PUBLISHED-TTL:P3D
REFRESH-INTERVAL:P3D
CALSCALE:GREGORIAN
BEGIN:VEVENT
DTSTART:20030517T123000Z
DTEND:20030517T123000Z
X-MICROSOFT-CDO-ALLDAYEVENT:FALSE
SUMMARY:Young Women in Math\, Science and Technology Conference
DESCRIPTION:This conference is open to young women grades 5th-8th and their parents.    For more information call Bob Koehs or Sandy Nezworski at 226-5114.
X-ALT-DESC;FMTTYPE=text/html:This conference is open to young women grades 5th-8th and their parents.    For more information call Bob Koehs or Sandy Nezworski at 226-5114.
LOCATION:Seaborg Science Complex\, Northern Michigan University
UID:e.1704.53029
SEQUENCE:3
DTSTAMP:20260421T160310Z
URL:http://marquette.memberzone.com/events/details/young-women-in-math-science-and-technology-conference-05-17-2003-53029
END:VEVENT

END:VCALENDAR
