BEGIN:VCALENDAR
VERSION:2.0
PRODID:-//ChamberMaster//Event Calendar 2.0//EN
METHOD:PUBLISH
X-PUBLISHED-TTL:P3D
REFRESH-INTERVAL:P3D
CALSCALE:GREGORIAN
BEGIN:VEVENT
DTSTART:20020310T220000Z
DTEND:20020310T220000Z
X-MICROSOFT-CDO-ALLDAYEVENT:FALSE
SUMMARY:Younker's Charity Night
DESCRIPTION:In addition to a wonderful evening of light refreshments\, live entertainment\, surprises and merchandise giveaways.  Save on many items normally excluded.  This is an exclusive event only for ticket holders.  Each ticket costs $5 with 100% of ticket sales benefiting local non-profit organizations.  Tickets are available at Younkers or by calling 228-6011.
X-ALT-DESC;FMTTYPE=text/html:In addition to a wonderful evening of light refreshments\, live entertainment\, surprises and merchandise giveaways.  Save on many items normally excluded.  This is an exclusive event only for ticket holders.  Each ticket costs $5 with 100% of ticket sales benefiting local non-profit organizations.  Tickets are available at Younkers or by calling 228-6011.
LOCATION:Younker's Department Store
UID:e.1704.47845
SEQUENCE:3
DTSTAMP:20260423T000805Z
URL:http://marquette.memberzone.com/events/details/younker-s-charity-night-03-10-2002-47845
END:VEVENT

END:VCALENDAR
